Package: hypeR Version: 2.5.0 Command: /Library/Frameworks/R.framework/Resources/bin/R CMD build --keep-empty-dirs --no-resave-data hypeR StartedAt: 2025-02-20 17:01:53 -0500 (Thu, 20 Feb 2025) EndedAt: 2025-02-20 17:02:11 -0500 (Thu, 20 Feb 2025) EllapsedTime: 18.4 seconds RetCode: 0 Status: OK PackageFile: hypeR_2.5.0.tar.gz PackageFileSize: 316.4 KiB