Package: hypeR Version: 2.5.0 Command: /Library/Frameworks/R.framework/Resources/bin/R CMD build --keep-empty-dirs --no-resave-data hypeR StartedAt: 2025-02-20 16:39:50 -0500 (Thu, 20 Feb 2025) EndedAt: 2025-02-20 16:39:56 -0500 (Thu, 20 Feb 2025) EllapsedTime: 6.1 seconds RetCode: 0 Status: OK PackageFile: hypeR_2.5.0.tar.gz PackageFileSize: 316.4 KiB