Package: hummingbird Version: 1.17.0 Command: chmod a+r hummingbird -R && E:\biocbuild\bbs-3.21-bioc\R\bin\R.exe CMD build --keep-empty-dirs --no-resave-data hummingbird StartedAt: 2025-02-20 19:20:58 -0500 (Thu, 20 Feb 2025) EndedAt: 2025-02-20 19:21:03 -0500 (Thu, 20 Feb 2025) EllapsedTime: 5.7 seconds RetCode: 1 Status: ERROR PackageFile: None PackageFileSize: NA