Package: hummingbird Version: 1.17.0 Command: /Library/Frameworks/R.framework/Resources/bin/R CMD INSTALL hummingbird StartedAt: 2025-02-20 15:10:13 -0500 (Thu, 20 Feb 2025) EndedAt: 2025-02-20 15:10:18 -0500 (Thu, 20 Feb 2025) EllapsedTime: 4.7 seconds RetCode: 1 Status: ERROR