Package: hpar Version: 1.49.0 Command: /Library/Frameworks/R.framework/Resources/bin/R CMD build --keep-empty-dirs --no-resave-data hpar StartedAt: 2025-02-20 16:39:24 -0500 (Thu, 20 Feb 2025) EndedAt: 2025-02-20 16:39:39 -0500 (Thu, 20 Feb 2025) EllapsedTime: 15.2 seconds RetCode: 0 Status: OK PackageFile: hpar_1.49.0.tar.gz PackageFileSize: 885.3 KiB