Package: hopach Version: 2.67.0 Command: /Library/Frameworks/R.framework/Resources/bin/R CMD INSTALL hopach StartedAt: 2025-02-17 15:04:50 -0500 (Mon, 17 Feb 2025) EndedAt: 2025-02-17 15:05:15 -0500 (Mon, 17 Feb 2025) EllapsedTime: 24.5 seconds RetCode: 0 Status: OK