Package: hopach Version: 2.67.0 Command: /Library/Frameworks/R.framework/Resources/bin/R CMD check --install=check:hopach.install-out.txt --library=/Library/Frameworks/R.framework/Resources/library --no-vignettes --timings hopach_2.67.0.tar.gz StartedAt: 2025-02-17 20:57:47 -0500 (Mon, 17 Feb 2025) EndedAt: 2025-02-17 20:58:57 -0500 (Mon, 17 Feb 2025) EllapsedTime: 69.8 seconds RetCode: 0 Status: OK CheckDir: hopach.Rcheck Warnings: 0