Package: hopach Version: 2.67.0 Command: /Library/Frameworks/R.framework/Resources/bin/R CMD build --keep-empty-dirs --no-resave-data hopach StartedAt: 2025-02-17 17:00:17 -0500 (Mon, 17 Feb 2025) EndedAt: 2025-02-17 17:00:50 -0500 (Mon, 17 Feb 2025) EllapsedTime: 33.4 seconds RetCode: 0 Status: OK PackageFile: hopach_2.67.0.tar.gz PackageFileSize: 1.293 MiB