Package: hopach Version: 2.67.0 Command: rm -rf hopach.buildbin-libdir && mkdir hopach.buildbin-libdir && /Users/biocbuild/BBS/utils/build-universal.sh hopach_2.67.0.tar.gz /Library/Frameworks/R.framework/Resources/bin/R hopach.buildbin-libdir StartedAt: 2025-02-18 00:29:20 -0500 (Tue, 18 Feb 2025) EndedAt: 2025-02-18 00:29:34 -0500 (Tue, 18 Feb 2025) EllapsedTime: 13.9 seconds RetCode: 0 Status: OK PackageFile: hopach_2.67.0.tgz PackageFileSize: 1.076 MiB