Package: hopach Version: 2.67.0 Command: /home/biocbuild/R/R/bin/R CMD INSTALL hopach StartedAt: 2025-01-29 19:31:38 -0000 (Wed, 29 Jan 2025) EndedAt: 2025-01-29 19:32:09 -0000 (Wed, 29 Jan 2025) EllapsedTime: 30.6 seconds RetCode: 0 Status: OK