Package: hopach Version: 2.67.0 Command: /home/biocbuild/R/R/bin/R CMD check --install=check:hopach.install-out.txt --library=/home/biocbuild/R/R/site-library --no-vignettes --timings hopach_2.67.0.tar.gz StartedAt: 2025-01-28 11:32:23 -0000 (Tue, 28 Jan 2025) EndedAt: 2025-01-28 11:33:33 -0000 (Tue, 28 Jan 2025) EllapsedTime: 69.1 seconds RetCode: 0 Status: OK CheckDir: hopach.Rcheck Warnings: 0