Package: hopach Version: 2.67.0 Command: /Library/Frameworks/R.framework/Resources/bin/R CMD check --install=check:hopach.install-out.txt --library=/Library/Frameworks/R.framework/Resources/library --no-vignettes --timings hopach_2.67.0.tar.gz StartedAt: 2025-02-17 19:42:05 -0500 (Mon, 17 Feb 2025) EndedAt: 2025-02-17 19:42:27 -0500 (Mon, 17 Feb 2025) EllapsedTime: 22.3 seconds RetCode: 0 Status: OK CheckDir: hopach.Rcheck Warnings: 0