Package: hopach Version: 2.67.0 Command: rm -rf hopach.buildbin-libdir && mkdir hopach.buildbin-libdir && /Users/biocbuild/BBS/utils/build-universal.sh hopach_2.67.0.tar.gz /Library/Frameworks/R.framework/Resources/bin/R hopach.buildbin-libdir StartedAt: 2025-02-17 22:20:40 -0500 (Mon, 17 Feb 2025) EndedAt: 2025-02-17 22:20:44 -0500 (Mon, 17 Feb 2025) EllapsedTime: 4.1 seconds RetCode: 0 Status: OK PackageFile: hopach_2.67.0.tgz PackageFileSize: 1.076 MiB