Package: hoodscanR Version: 1.5.2 Command: E:\biocbuild\bbs-3.21-bioc\R\bin\R.exe CMD INSTALL hoodscanR StartedAt: 2025-02-21 17:00:01 -0500 (Fri, 21 Feb 2025) EndedAt: 2025-02-21 17:00:43 -0500 (Fri, 21 Feb 2025) EllapsedTime: 41.6 seconds RetCode: 0 Status: OK