Package: hoodscanR Version: 1.5.2 Command: E:\biocbuild\bbs-3.21-bioc\R\bin\R.exe CMD check --no-multiarch --install=check:hoodscanR.install-out.txt --library=E:\biocbuild\bbs-3.21-bioc\R\library --no-vignettes --timings hoodscanR_1.5.2.tar.gz StartedAt: 2025-02-21 02:17:12 -0500 (Fri, 21 Feb 2025) EndedAt: 2025-02-21 02:21:32 -0500 (Fri, 21 Feb 2025) EllapsedTime: 260.3 seconds RetCode: 0 Status: OK CheckDir: hoodscanR.Rcheck Warnings: 0