Package: hoodscanR Version: 1.5.2 Command: chmod a+r hoodscanR -R && E:\biocbuild\bbs-3.21-bioc\R\bin\R.exe CMD build --keep-empty-dirs --no-resave-data hoodscanR StartedAt: 2025-02-20 19:20:12 -0500 (Thu, 20 Feb 2025) EndedAt: 2025-02-20 19:21:14 -0500 (Thu, 20 Feb 2025) EllapsedTime: 61.9 seconds RetCode: 0 Status: OK PackageFile: hoodscanR_1.5.2.tar.gz PackageFileSize: 1.17 MiB