Package: hoodscanR Version: 1.5.2 Command: rm -rf hoodscanR.buildbin-libdir && mkdir hoodscanR.buildbin-libdir && E:\biocbuild\bbs-3.21-bioc\R\bin\R.exe CMD INSTALL --build --library=hoodscanR.buildbin-libdir hoodscanR_1.5.2.tar.gz StartedAt: 2025-02-21 08:17:53 -0500 (Fri, 21 Feb 2025) EndedAt: 2025-02-21 08:18:48 -0500 (Fri, 21 Feb 2025) EllapsedTime: 54.8 seconds RetCode: 0 Status: OK PackageFile: hoodscanR_1.5.2.zip PackageFileSize: 1.565 MiB