Package: hoodscanR Version: 1.5.2 Command: /home/biocbuild/bbs-3.21-bioc/R/bin/R CMD INSTALL hoodscanR StartedAt: 2025-02-20 15:28:37 -0500 (Thu, 20 Feb 2025) EndedAt: 2025-02-20 15:29:06 -0500 (Thu, 20 Feb 2025) EllapsedTime: 29.7 seconds RetCode: 0 Status: OK