Package: hmdbQuery Version: 1.27.0 Command: /Library/Frameworks/R.framework/Resources/bin/R CMD build --keep-empty-dirs --no-resave-data hmdbQuery StartedAt: 2025-02-19 17:01:06 -0500 (Wed, 19 Feb 2025) EndedAt: 2025-02-19 17:01:52 -0500 (Wed, 19 Feb 2025) EllapsedTime: 46.8 seconds RetCode: 0 Status: OK PackageFile: hmdbQuery_1.27.0.tar.gz PackageFileSize: 749.3 KiB