Package: hipathia Version: 3.7.0 Command: /Library/Frameworks/R.framework/Resources/bin/R CMD INSTALL hipathia StartedAt: 2025-02-20 15:41:52 -0500 (Thu, 20 Feb 2025) EndedAt: 2025-02-20 15:42:41 -0500 (Thu, 20 Feb 2025) EllapsedTime: 49.2 seconds RetCode: 0 Status: OK