Package: hipathia Version: 3.7.0 Command: rm -rf hipathia.buildbin-libdir && mkdir hipathia.buildbin-libdir && /Users/biocbuild/BBS/utils/build-universal.sh hipathia_3.7.0.tar.gz /Library/Frameworks/R.framework/Resources/bin/R hipathia.buildbin-libdir StartedAt: 2025-02-19 22:25:10 -0500 (Wed, 19 Feb 2025) EndedAt: 2025-02-19 22:25:27 -0500 (Wed, 19 Feb 2025) EllapsedTime: 16.4 seconds RetCode: 0 Status: OK PackageFile: hipathia_3.7.0.tgz PackageFileSize: 7.652 MiB