Package: hierinf Version: 1.25.0 Command: E:\biocbuild\bbs-3.21-bioc\R\bin\R.exe CMD INSTALL hierinf StartedAt: 2025-02-20 16:00:38 -0500 (Thu, 20 Feb 2025) EndedAt: 2025-02-20 16:00:48 -0500 (Thu, 20 Feb 2025) EllapsedTime: 10.2 seconds RetCode: 0 Status: OK