Package: hierinf Version: 1.25.0 Command: chmod a+r hierinf -R && E:\biocbuild\bbs-3.21-bioc\R\bin\R.exe CMD build --keep-empty-dirs --no-resave-data hierinf StartedAt: 2025-02-20 19:18:18 -0500 (Thu, 20 Feb 2025) EndedAt: 2025-02-20 19:20:12 -0500 (Thu, 20 Feb 2025) EllapsedTime: 113.6 seconds RetCode: 0 Status: OK PackageFile: hierinf_1.25.0.tar.gz PackageFileSize: 430.5 KiB