Package: hierinf Version: 1.25.0 Command: /home/biocbuild/bbs-3.21-bioc/R/bin/R CMD INSTALL hierinf StartedAt: 2025-02-20 15:09:12 -0500 (Thu, 20 Feb 2025) EndedAt: 2025-02-20 15:09:15 -0500 (Thu, 20 Feb 2025) EllapsedTime: 2.9 seconds RetCode: 0 Status: OK