Package: hierinf Version: 1.25.0 Command: /home/biocbuild/bbs-3.21-bioc/R/bin/R CMD check --install=check:hierinf.install-out.txt --library=/home/biocbuild/bbs-3.21-bioc/R/site-library --timings hierinf_1.25.0.tar.gz StartedAt: 2025-02-20 22:44:14 -0500 (Thu, 20 Feb 2025) EndedAt: 2025-02-20 22:48:23 -0500 (Thu, 20 Feb 2025) EllapsedTime: 248.4 seconds RetCode: 0 Status: OK CheckDir: hierinf.Rcheck Warnings: 0