Package: hierGWAS Version: 1.37.0 Command: /home/biocbuild/bbs-3.21-bioc/R/bin/R CMD check --install=check:hierGWAS.install-out.txt --library=/home/biocbuild/bbs-3.21-bioc/R/site-library --timings hierGWAS_1.37.0.tar.gz StartedAt: 2025-02-20 22:44:10 -0500 (Thu, 20 Feb 2025) EndedAt: 2025-02-20 22:46:25 -0500 (Thu, 20 Feb 2025) EllapsedTime: 135.2 seconds RetCode: 0 Status: WARNINGS CheckDir: hierGWAS.Rcheck Warnings: 1