Package: hierGWAS Version: 1.37.0 Command: /home/biocbuild/bbs-3.21-bioc/R/bin/R CMD build --keep-empty-dirs --no-resave-data hierGWAS StartedAt: 2025-02-19 17:38:18 -0500 (Wed, 19 Feb 2025) EndedAt: 2025-02-19 17:40:06 -0500 (Wed, 19 Feb 2025) EllapsedTime: 108.1 seconds RetCode: 0 Status: OK PackageFile: hierGWAS_1.37.0.tar.gz PackageFileSize: 566.8 KiB