Package: hicVennDiagram Version: 1.5.2 Command: E:\biocbuild\bbs-3.21-bioc\R\bin\R.exe CMD check --no-multiarch --install=check:hicVennDiagram.install-out.txt --library=E:\biocbuild\bbs-3.21-bioc\R\library --no-vignettes --timings hicVennDiagram_1.5.2.tar.gz StartedAt: 2025-02-20 02:00:15 -0500 (Thu, 20 Feb 2025) EndedAt: 2025-02-20 02:05:15 -0500 (Thu, 20 Feb 2025) EllapsedTime: 300.1 seconds RetCode: 0 Status: OK CheckDir: hicVennDiagram.Rcheck Warnings: 0