Package: hicVennDiagram Version: 1.5.2 Command: chmod a+r hicVennDiagram -R && E:\biocbuild\bbs-3.21-bioc\R\bin\R.exe CMD build --keep-empty-dirs --no-resave-data hicVennDiagram StartedAt: 2025-02-19 19:15:45 -0500 (Wed, 19 Feb 2025) EndedAt: 2025-02-19 19:19:37 -0500 (Wed, 19 Feb 2025) EllapsedTime: 231.8 seconds RetCode: 0 Status: OK PackageFile: hicVennDiagram_1.5.2.tar.gz PackageFileSize: 853.8 KiB