Package: hicVennDiagram Version: 1.5.2 Command: rm -rf hicVennDiagram.buildbin-libdir && mkdir hicVennDiagram.buildbin-libdir && E:\biocbuild\bbs-3.21-bioc\R\bin\R.exe CMD INSTALL --build --library=hicVennDiagram.buildbin-libdir hicVennDiagram_1.5.2.tar.gz StartedAt: 2025-02-20 07:57:44 -0500 (Thu, 20 Feb 2025) EndedAt: 2025-02-20 08:00:11 -0500 (Thu, 20 Feb 2025) EllapsedTime: 147.1 seconds RetCode: 0 Status: OK PackageFile: hicVennDiagram_1.5.2.zip PackageFileSize: 1.096 MiB