Package: hicVennDiagram Version: 1.5.2 Command: /home/biocbuild/bbs-3.21-bioc/R/bin/R CMD build --keep-empty-dirs --no-resave-data hicVennDiagram StartedAt: 2025-02-19 17:38:13 -0500 (Wed, 19 Feb 2025) EndedAt: 2025-02-19 17:40:19 -0500 (Wed, 19 Feb 2025) EllapsedTime: 126.1 seconds RetCode: 0 Status: OK PackageFile: hicVennDiagram_1.5.2.tar.gz PackageFileSize: 1.121 MiB