Package: hicVennDiagram Version: 1.5.2 Command: /Library/Frameworks/R.framework/Resources/bin/R CMD INSTALL hicVennDiagram StartedAt: 2025-02-19 15:14:46 -0500 (Wed, 19 Feb 2025) EndedAt: 2025-02-19 15:15:01 -0500 (Wed, 19 Feb 2025) EllapsedTime: 14.3 seconds RetCode: 0 Status: OK