Package: hiReadsProcessor Version: 1.43.0 Command: /home/biocbuild/bbs-3.21-bioc/R/bin/R CMD INSTALL hiReadsProcessor StartedAt: 2025-02-19 15:49:02 -0500 (Wed, 19 Feb 2025) EndedAt: 2025-02-19 15:49:39 -0500 (Wed, 19 Feb 2025) EllapsedTime: 37.3 seconds RetCode: 0 Status: OK