Package: hiReadsProcessor Version: 1.43.0 Command: /Library/Frameworks/R.framework/Resources/bin/R CMD check --install=check:hiReadsProcessor.install-out.txt --library=/Library/Frameworks/R.framework/Resources/library --no-vignettes --timings hiReadsProcessor_1.43.0.tar.gz StartedAt: 2025-02-19 21:00:57 -0500 (Wed, 19 Feb 2025) EndedAt: 2025-02-19 21:05:59 -0500 (Wed, 19 Feb 2025) EllapsedTime: 302.2 seconds RetCode: 0 Status: OK CheckDir: hiReadsProcessor.Rcheck Warnings: 0