Package: hiReadsProcessor Version: 1.43.0 Command: /Library/Frameworks/R.framework/Resources/bin/R CMD build --keep-empty-dirs --no-resave-data hiReadsProcessor StartedAt: 2025-02-19 17:00:45 -0500 (Wed, 19 Feb 2025) EndedAt: 2025-02-19 17:01:53 -0500 (Wed, 19 Feb 2025) EllapsedTime: 68.5 seconds RetCode: 0 Status: OK PackageFile: hiReadsProcessor_1.43.0.tar.gz PackageFileSize: 3.147 MiB