Package: hiAnnotator Version: 1.41.0 Command: /Library/Frameworks/R.framework/Resources/bin/R CMD INSTALL hiAnnotator StartedAt: 2025-02-20 15:18:34 -0500 (Thu, 20 Feb 2025) EndedAt: 2025-02-20 15:19:20 -0500 (Thu, 20 Feb 2025) EllapsedTime: 46.4 seconds RetCode: 0 Status: OK