Package: hiAnnotator Version: 1.41.0 Command: rm -rf hiAnnotator.buildbin-libdir && mkdir hiAnnotator.buildbin-libdir && /Users/biocbuild/BBS/utils/build-universal.sh hiAnnotator_1.41.0.tar.gz /Library/Frameworks/R.framework/Resources/bin/R hiAnnotator.buildbin-libdir StartedAt: 2025-02-20 22:21:50 -0500 (Thu, 20 Feb 2025) EndedAt: 2025-02-20 22:22:05 -0500 (Thu, 20 Feb 2025) EllapsedTime: 15.4 seconds RetCode: 0 Status: OK PackageFile: hiAnnotator_1.41.0.tgz PackageFileSize: 819.6 KiB