Package: hermes Version: 1.11.0 Command: chmod a+r hermes -R && E:\biocbuild\bbs-3.21-bioc\R\bin\R.exe CMD build --keep-empty-dirs --no-resave-data hermes StartedAt: 2025-02-20 19:16:31 -0500 (Thu, 20 Feb 2025) EndedAt: 2025-02-20 19:19:37 -0500 (Thu, 20 Feb 2025) EllapsedTime: 185.9 seconds RetCode: 0 Status: OK PackageFile: hermes_1.11.0.tar.gz PackageFileSize: 3.372 MiB