Package: hermes Version: 1.11.0 Command: /home/biocbuild/bbs-3.21-bioc/R/bin/R CMD check --install=check:hermes.install-out.txt --library=/home/biocbuild/bbs-3.21-bioc/R/site-library --timings hermes_1.11.0.tar.gz StartedAt: 2025-02-21 23:01:39 -0500 (Fri, 21 Feb 2025) EndedAt: 2025-02-21 23:09:34 -0500 (Fri, 21 Feb 2025) EllapsedTime: 475.7 seconds RetCode: 0 Status: OK CheckDir: hermes.Rcheck Warnings: 0