Package: hermes Version: 1.11.0 Command: /Library/Frameworks/R.framework/Resources/bin/R CMD INSTALL hermes StartedAt: 2025-02-21 15:18:21 -0500 (Fri, 21 Feb 2025) EndedAt: 2025-02-21 15:19:25 -0500 (Fri, 21 Feb 2025) EllapsedTime: 64.5 seconds RetCode: 0 Status: OK