Package: hermes Version: 1.11.0 Command: /Library/Frameworks/R.framework/Resources/bin/R CMD INSTALL hermes StartedAt: 2025-02-20 15:13:38 -0500 (Thu, 20 Feb 2025) EndedAt: 2025-02-20 15:13:58 -0500 (Thu, 20 Feb 2025) EllapsedTime: 19.7 seconds RetCode: 0 Status: OK