Package: hermes Version: 1.11.0 Command: /Library/Frameworks/R.framework/Resources/bin/R CMD build --keep-empty-dirs --no-resave-data hermes StartedAt: 2025-02-20 16:36:40 -0500 (Thu, 20 Feb 2025) EndedAt: 2025-02-20 16:37:17 -0500 (Thu, 20 Feb 2025) EllapsedTime: 37.4 seconds RetCode: 0 Status: OK PackageFile: hermes_1.11.0.tar.gz PackageFileSize: 4 MiB