Package: heatmaps Version: 1.31.0 Command: E:\biocbuild\bbs-3.21-bioc\R\bin\R.exe CMD INSTALL heatmaps StartedAt: 2025-02-20 15:39:41 -0500 (Thu, 20 Feb 2025) EndedAt: 2025-02-20 15:40:23 -0500 (Thu, 20 Feb 2025) EllapsedTime: 42.6 seconds RetCode: 0 Status: OK