Package: heatmaps Version: 1.31.0 Command: E:\biocbuild\bbs-3.21-bioc\R\bin\R.exe CMD check --no-multiarch --install=check:heatmaps.install-out.txt --library=E:\biocbuild\bbs-3.21-bioc\R\library --no-vignettes --timings heatmaps_1.31.0.tar.gz StartedAt: 2025-02-21 02:09:15 -0500 (Fri, 21 Feb 2025) EndedAt: 2025-02-21 02:11:38 -0500 (Fri, 21 Feb 2025) EllapsedTime: 143.7 seconds RetCode: 0 Status: OK CheckDir: heatmaps.Rcheck Warnings: 0