Package: hdxmsqc Version: 1.3.0 Command: /home/biocbuild/bbs-3.21-bioc/R/bin/R CMD build --keep-empty-dirs --no-resave-data hdxmsqc StartedAt: 2025-02-19 17:35:36 -0500 (Wed, 19 Feb 2025) EndedAt: 2025-02-19 17:39:31 -0500 (Wed, 19 Feb 2025) EllapsedTime: 235.3 seconds RetCode: 0 Status: OK PackageFile: hdxmsqc_1.3.0.tar.gz PackageFileSize: 5.466 MiB