Package: hca Version: 1.15.0 Command: /home/biocbuild/bbs-3.21-bioc/R/bin/R CMD build --keep-empty-dirs --no-resave-data hca StartedAt: 2025-02-20 17:44:41 -0500 (Thu, 20 Feb 2025) EndedAt: 2025-02-20 17:44:58 -0500 (Thu, 20 Feb 2025) EllapsedTime: 17.0 seconds RetCode: 1 Status: ERROR PackageFile: None PackageFileSize: NA