Package: h5vc Version: 2.41.1 Command: E:\biocbuild\bbs-3.21-bioc\R\bin\R.exe CMD INSTALL h5vc StartedAt: 2025-02-20 15:40:47 -0500 (Thu, 20 Feb 2025) EndedAt: 2025-02-20 15:42:30 -0500 (Thu, 20 Feb 2025) EllapsedTime: 103.7 seconds RetCode: 0 Status: OK