Package: h5vc Version: 2.41.1 Command: /home/biocbuild/bbs-3.21-bioc/R/bin/R CMD check --install=check:h5vc.install-out.txt --library=/home/biocbuild/bbs-3.21-bioc/R/site-library --timings h5vc_2.41.1.tar.gz StartedAt: 2025-02-20 22:37:20 -0500 (Thu, 20 Feb 2025) EndedAt: 2025-02-20 22:43:49 -0500 (Thu, 20 Feb 2025) EllapsedTime: 389.5 seconds RetCode: 0 Status: WARNINGS CheckDir: h5vc.Rcheck Warnings: 1