Package: h5vc Version: 2.41.1 Command: /Library/Frameworks/R.framework/Resources/bin/R CMD check --install=check:h5vc.install-out.txt --library=/Library/Frameworks/R.framework/Resources/library --no-vignettes --timings h5vc_2.41.1.tar.gz StartedAt: 2025-02-20 20:55:33 -0500 (Thu, 20 Feb 2025) EndedAt: 2025-02-20 20:59:08 -0500 (Thu, 20 Feb 2025) EllapsedTime: 214.9 seconds RetCode: 0 Status: WARNINGS CheckDir: h5vc.Rcheck Warnings: 1