Package: h5vc Version: 2.41.1 Command: /Library/Frameworks/R.framework/Resources/bin/R CMD build --keep-empty-dirs --no-resave-data h5vc StartedAt: 2025-02-20 16:56:46 -0500 (Thu, 20 Feb 2025) EndedAt: 2025-02-20 17:00:38 -0500 (Thu, 20 Feb 2025) EllapsedTime: 232.0 seconds RetCode: 0 Status: OK PackageFile: h5vc_2.41.1.tar.gz PackageFileSize: 1.689 MiB